BEGIN:VCALENDAR
VERSION:2.0
PRODID:-//wp-events-plugin.com//7.2.3.1//EN
TZID:Europe/London
X-WR-TIMEZONE:Europe/London
BEGIN:VEVENT
UID:1@dev.tenantstogether.scot
DTSTART;TZID=Europe/London:20260530T110000
DTEND;TZID=Europe/London:20260530T120000
DTSTAMP:20260410T125832Z
URL:https://dev.tenantstogether.scot/events/tts-agm-meeting/
SUMMARY:TTS AGM & Meeting
DESCRIPTION:
CATEGORIES:AGM/EGM,Meeting
LOCATION:Online Meeting\, Online Meeting\, Zoom Call\, United Kingdom
X-APPLE-STRUCTURED-LOCATION;VALUE=URI;X-ADDRESS=Online Meeting\, Zoom Call\
 , United Kingdom;X-APPLE-RADIUS=100;X-TITLE=Online Meeting:geo:0,0
END:VEVENT
BEGIN:VEVENT
UID:7@dev.tenantstogether.scot
DTSTART;TZID=Europe/London:20260624T100000
DTEND;TZID=Europe/London:20260624T120000
DTSTAMP:20260410T131333Z
URL:https://dev.tenantstogether.scot/events/tts-committee-meeting-2/
SUMMARY:TTS Committee Meeting
DESCRIPTION:
CATEGORIES:Meeting
LOCATION:Online Meeting\, Online Meeting\, Zoom Call\, United Kingdom
X-APPLE-STRUCTURED-LOCATION;VALUE=URI;X-ADDRESS=Online Meeting\, Zoom Call\
 , United Kingdom;X-APPLE-RADIUS=100;X-TITLE=Online Meeting:geo:0,0
END:VEVENT
BEGIN:VEVENT
UID:5@dev.tenantstogether.scot
DTSTART;TZID=Europe/London:20260819T103000
DTEND;TZID=Europe/London:20260819T153000
DTSTAMP:20260410T131503Z
URL:https://dev.tenantstogether.scot/events/tts-committee-meeting/
SUMMARY:TTS Committee Meeting F2F
DESCRIPTION:
CATEGORIES:Meeting
LOCATION:In Person Meeting\, Face to Face\, In Person\, United Kingdom
X-APPLE-STRUCTURED-LOCATION;VALUE=URI;X-ADDRESS=Face to Face\, In Person\, 
 United Kingdom;X-APPLE-RADIUS=100;X-TITLE=In Person Meeting:geo:0,0
END:VEVENT
BEGIN:VEVENT
UID:8@dev.tenantstogether.scot
DTSTART;TZID=Europe/London:20261007T100000
DTEND;TZID=Europe/London:20261007T120000
DTSTAMP:20260410T131415Z
URL:https://dev.tenantstogether.scot/events/tts-committee-meeting-3/
SUMMARY:TTS Committee Meeting
DESCRIPTION:
CATEGORIES:Meeting
LOCATION:Online Meeting\, Online Meeting\, Zoom Call\, United Kingdom
X-APPLE-STRUCTURED-LOCATION;VALUE=URI;X-ADDRESS=Online Meeting\, Zoom Call\
 , United Kingdom;X-APPLE-RADIUS=100;X-TITLE=Online Meeting:geo:0,0
END:VEVENT
BEGIN:VEVENT
UID:9@dev.tenantstogether.scot
DTSTART;TZID=Europe/London:20261202T100000
DTEND;TZID=Europe/London:20261202T120000
DTSTAMP:20260410T131431Z
URL:https://dev.tenantstogether.scot/events/tts-committee-meeting-4/
SUMMARY:TTS Committee Meeting
DESCRIPTION:
CATEGORIES:Meeting
LOCATION:Online Meeting\, Online Meeting\, Zoom Call\, United Kingdom
X-APPLE-STRUCTURED-LOCATION;VALUE=URI;X-ADDRESS=Online Meeting\, Zoom Call\
 , United Kingdom;X-APPLE-RADIUS=100;X-TITLE=Online Meeting:geo:0,0
END:VEVENT
BEGIN:VTIMEZONE
TZID:Europe/London
X-LIC-LOCATION:Europe/London
BEGIN:DAYLIGHT
DTSTART:20260329T020000
TZOFFSETFROM:+0000
TZOFFSETTO:+0100
TZNAME:BST
END:DAYLIGHT
BEGIN:STANDARD
DTSTART:20261025T010000
TZOFFSETFROM:+0100
TZOFFSETTO:+0000
TZNAME:GMT
END:STANDARD
END:VTIMEZONE
END:VCALENDAR